BEGIN:VCALENDAR
VERSION:2.0
PRODID:-//Anci FVG - ECPv6.15.12.2//NONSGML v1.0//EN
CALSCALE:GREGORIAN
METHOD:PUBLISH
X-ORIGINAL-URL:https://anci.fvg.it
X-WR-CALDESC:Eventi per Anci FVG
REFRESH-INTERVAL;VALUE=DURATION:PT1H
X-Robots-Tag:noindex
X-PUBLISHED-TTL:PT1H
BEGIN:VTIMEZONE
TZID:Europe/Rome
BEGIN:DAYLIGHT
TZOFFSETFROM:+0100
TZOFFSETTO:+0200
TZNAME:CEST
DTSTART:20210328T010000
END:DAYLIGHT
BEGIN:STANDARD
TZOFFSETFROM:+0200
TZOFFSETTO:+0100
TZNAME:CET
DTSTART:20211031T010000
END:STANDARD
BEGIN:DAYLIGHT
TZOFFSETFROM:+0100
TZOFFSETTO:+0200
TZNAME:CEST
DTSTART:20220327T010000
END:DAYLIGHT
BEGIN:STANDARD
TZOFFSETFROM:+0200
TZOFFSETTO:+0100
TZNAME:CET
DTSTART:20221030T010000
END:STANDARD
BEGIN:DAYLIGHT
TZOFFSETFROM:+0100
TZOFFSETTO:+0200
TZNAME:CEST
DTSTART:20230326T010000
END:DAYLIGHT
BEGIN:STANDARD
TZOFFSETFROM:+0200
TZOFFSETTO:+0100
TZNAME:CET
DTSTART:20231029T010000
END:STANDARD
BEGIN:DAYLIGHT
TZOFFSETFROM:+0100
TZOFFSETTO:+0200
TZNAME:CEST
DTSTART:20240331T010000
END:DAYLIGHT
BEGIN:STANDARD
TZOFFSETFROM:+0200
TZOFFSETTO:+0100
TZNAME:CET
DTSTART:20241027T010000
END:STANDARD
BEGIN:DAYLIGHT
TZOFFSETFROM:+0100
TZOFFSETTO:+0200
TZNAME:CEST
DTSTART:20250330T010000
END:DAYLIGHT
BEGIN:STANDARD
TZOFFSETFROM:+0200
TZOFFSETTO:+0100
TZNAME:CET
DTSTART:20251026T010000
END:STANDARD
BEGIN:DAYLIGHT
TZOFFSETFROM:+0100
TZOFFSETTO:+0200
TZNAME:CEST
DTSTART:20260329T010000
END:DAYLIGHT
BEGIN:STANDARD
TZOFFSETFROM:+0200
TZOFFSETTO:+0100
TZNAME:CET
DTSTART:20261025T010000
END:STANDARD
BEGIN:DAYLIGHT
TZOFFSETFROM:+0100
TZOFFSETTO:+0200
TZNAME:CEST
DTSTART:20270328T010000
END:DAYLIGHT
BEGIN:STANDARD
TZOFFSETFROM:+0200
TZOFFSETTO:+0100
TZNAME:CET
DTSTART:20271031T010000
END:STANDARD
END:VTIMEZONE
BEGIN:VEVENT
DTSTART;TZID=Europe/Rome:20260413T170000
DTEND;TZID=Europe/Rome:20260413T190000
DTSTAMP:20260420T111408
CREATED:20260403T050607Z
LAST-MODIFIED:20260403T085046Z
UID:63197-1776099600-1776106800@anci.fvg.it
SUMMARY:Competenze specifiche per l’Assessore e il consigliere delegato alle Politiche Giovanili
DESCRIPTION:Il Coordinamento regionale di ANCI Giovani FVG ha deciso di prorogare al prossimo 27 aprile la scadenza per la compilazione del questionario sulle politiche giovanili con lo scopo di condividere le azioni virtuose dei Comuni del Friuli Venezia Giulia in un evento in programma a Trieste il prossimo 23 maggio. Lo trovate al link Indagine di ANCI FVG sulle POLITICHE GIOVANILI – Compila modulo   								\n				\n					\n		\n					\n		\n				\n						\n					\n			\n						\n						\n					\n			\n						\n				\n									 SOCIAL MEDIA								\n				\n				\n				\n							\n							\n					\n						Facebook\n											\n				\n							\n					\n						Twitter\n											\n				\n							\n					\n						Instagram
URL:https://anci.fvg.it/evento/competenze-specifiche-per-lassessore-e-il-consigliere-delegato-alle-politiche-giovanili/
LOCATION:online
CATEGORIES:Appuntamenti ANCI FVG,Formazione amministratori locali
ATTACH;FMTTYPE=image/jpeg:https://anci.fvg.it/wp-content/uploads/2026/04/giovanili.jpg
END:VEVENT
BEGIN:VEVENT
DTSTART;TZID=Europe/Rome:20231116T110000
DTEND;TZID=Europe/Rome:20231116T120000
DTSTAMP:20260420T111408
CREATED:20231110T103851Z
LAST-MODIFIED:20231110T104004Z
UID:44900-1700132400-1700136000@anci.fvg.it
SUMMARY:Lancio NEXTGEN COMMUNITY
DESCRIPTION:Il Coordinamento regionale di ANCI Giovani FVG ha deciso di prorogare al prossimo 27 aprile la scadenza per la compilazione del questionario sulle politiche giovanili con lo scopo di condividere le azioni virtuose dei Comuni del Friuli Venezia Giulia in un evento in programma a Trieste il prossimo 23 maggio. Lo trovate al link Indagine di ANCI FVG sulle POLITICHE GIOVANILI – Compila modulo   								\n				\n					\n		\n					\n		\n				\n						\n					\n			\n						\n						\n					\n			\n						\n				\n									 SOCIAL MEDIA								\n				\n				\n				\n							\n							\n					\n						Facebook\n											\n				\n							\n					\n						Twitter\n											\n				\n							\n					\n						Instagram
URL:https://anci.fvg.it/evento/lancio-nextgen-community/
LOCATION:online
CATEGORIES:Eventi nazionali
ATTACH;FMTTYPE=image/png:https://anci.fvg.it/wp-content/uploads/2023/11/Screenshot-2023-11-10-113410.png
END:VEVENT
BEGIN:VEVENT
DTSTART;TZID=Europe/Rome:20220923T100000
DTEND;TZID=Europe/Rome:20220924T170000
DTSTAMP:20260420T111408
CREATED:20220713T073938Z
LAST-MODIFIED:20220714T065542Z
UID:35900-1663927200-1664038800@anci.fvg.it
SUMMARY:XII Assemblea nazionale di Anci Giovani
DESCRIPTION:Il Coordinamento regionale di ANCI Giovani FVG ha deciso di prorogare al prossimo 27 aprile la scadenza per la compilazione del questionario sulle politiche giovanili con lo scopo di condividere le azioni virtuose dei Comuni del Friuli Venezia Giulia in un evento in programma a Trieste il prossimo 23 maggio. Lo trovate al link Indagine di ANCI FVG sulle POLITICHE GIOVANILI – Compila modulo   								\n				\n					\n		\n					\n		\n				\n						\n					\n			\n						\n						\n					\n			\n						\n				\n									 SOCIAL MEDIA								\n				\n				\n				\n							\n							\n					\n						Facebook\n											\n				\n							\n					\n						Twitter\n											\n				\n							\n					\n						Instagram
URL:https://anci.fvg.it/evento/xii-assemblea-nazionale-di-anci-giovani/
LOCATION:Treviso
CATEGORIES:Eventi nazionali
ATTACH;FMTTYPE=image/jpeg:https://anci.fvg.it/wp-content/uploads/2022/07/ancigiovani.jpg
END:VEVENT
END:VCALENDAR