BEGIN:VCALENDAR
VERSION:2.0
PRODID:-//Anci FVG - ECPv6.15.12.2//NONSGML v1.0//EN
CALSCALE:GREGORIAN
METHOD:PUBLISH
X-WR-CALNAME:Anci FVG
X-ORIGINAL-URL:https://anci.fvg.it
X-WR-CALDESC:Eventi per Anci FVG
REFRESH-INTERVAL;VALUE=DURATION:PT1H
X-Robots-Tag:noindex
X-PUBLISHED-TTL:PT1H
BEGIN:VTIMEZONE
TZID:Europe/Rome
BEGIN:DAYLIGHT
TZOFFSETFROM:+0100
TZOFFSETTO:+0200
TZNAME:CEST
DTSTART:20230326T010000
END:DAYLIGHT
BEGIN:STANDARD
TZOFFSETFROM:+0200
TZOFFSETTO:+0100
TZNAME:CET
DTSTART:20231029T010000
END:STANDARD
BEGIN:DAYLIGHT
TZOFFSETFROM:+0100
TZOFFSETTO:+0200
TZNAME:CEST
DTSTART:20240331T010000
END:DAYLIGHT
BEGIN:STANDARD
TZOFFSETFROM:+0200
TZOFFSETTO:+0100
TZNAME:CET
DTSTART:20241027T010000
END:STANDARD
BEGIN:DAYLIGHT
TZOFFSETFROM:+0100
TZOFFSETTO:+0200
TZNAME:CEST
DTSTART:20250330T010000
END:DAYLIGHT
BEGIN:STANDARD
TZOFFSETFROM:+0200
TZOFFSETTO:+0100
TZNAME:CET
DTSTART:20251026T010000
END:STANDARD
END:VTIMEZONE
BEGIN:VEVENT
DTSTART;TZID=Europe/Rome:20240220T110000
DTEND;TZID=Europe/Rome:20240220T123000
DTSTAMP:20260420T104721
CREATED:20240215T104520Z
LAST-MODIFIED:20240215T105200Z
UID:46028-1708426800-1708432200@anci.fvg.it
SUMMARY:Fondo povertà\, le novità sull'utilizzo della quota servizi
DESCRIPTION:Martedì 20 febbraio è in programma il quarto webinar organizzato da Anci in collaborazione con il Ministero del Lavoro e delle Politiche Sociali\, con il supporto di Banca Mondiale\, che tratterà le novità introdotte dal Decreto legge n. 48 del 4 maggio 2023\, convertito dalla Legge n. 85 del 3 luglio 2023\, anche alla luce dell’entrata in vigore dell’Assegno di inclusione\, nuova misura di contrasto alla povertà attiva dal 1° gennaio 2024. \nL’articolo 6 comma 9 del Decreto Lavoro infatti prevede un’estensione nell’utilizzo del Fondo per la lotta alla povertà e all’esclusione sociale\, non solo ai beneficiari dell’Assegno di inclusione ma anche ai nuclei familiari e agli individui in simili condizioni di disagio economico. \nIn occasione dell’incontro verranno presentate le nuove linee guida della quota servizi del Fondo Povertà 2022 e 2023 e le relative procedure di rendicontazione. \nL’incontro è indirizzato a Comuni ed ATS\, con particolare riguardo ai referenti della rendicontazione delle risorse della quota servizi. \nPer partecipare è necessario iscriversi al seguente link.\nVi informiamo che tutti i webinar realizzati dal Dipartimento Welfare in collaborazione con il Ministero del lavoro possono essere rivisti sul sito dell’Anci e su www.fondiwelfare.it dove troverete anche il materiale didattico.
URL:https://anci.fvg.it/evento/fondo-poverta/
LOCATION:online
CATEGORIES:Eventi nazionali
ATTACH;FMTTYPE=image/png:https://anci.fvg.it/wp-content/uploads/2024/02/fondo_poverta.png
END:VEVENT
BEGIN:VEVENT
DTSTART;TZID=Europe/Rome:20240208T103000
DTEND;TZID=Europe/Rome:20240208T130000
DTSTAMP:20260420T104721
CREATED:20240202T093330Z
LAST-MODIFIED:20240215T105347Z
UID:45905-1707388200-1707397200@anci.fvg.it
SUMMARY:Assegno di inclusione: accesso alla misura delle persone in condizione di svantaggio
DESCRIPTION:Il webinar\, terzo di un ciclo di incontri dedicati all’ADI\, organizzato da ANCI in collaborazione con il Ministero del Lavoro e delle Politiche Sociali\, con il supporto della Banca Mondiale\, riguarderà le previsioni contenute nei decreti attuativi della misura (decreto 160 del 13 dicembre 2023 e Linee di indirizzo del 29 dicembre 2023). \nVerranno affrontati i temi relativi alla definizione delle categorie di soggetti in condizione di svantaggio e inseriti in un programma di cura e assistenza dei servizi sociosanitari territoriali certificati dalla pubblica Amministrazione\, che potranno accedere all’ADI\, nonché illustrate le Linee di indirizzo sugli elementi fondanti la presa in carico sociale integrata e il progetto personalizzato necessari alla valutazione delle condizioni di svantaggio. \nL’incontro è indirizzato al mondo dei Comuni\, ma aperto alla partecipazione di Caf e Patronati\, in quanto attori coinvolti nell’attuazione della misura. \nPer partecipare\, è necessario registrarsi qui
URL:https://anci.fvg.it/evento/assegno-di-inclusione-accesso-alla-misura-delle-persone-in-condizione-di-svantaggio/
LOCATION:online
CATEGORIES:Eventi nazionali
ATTACH;FMTTYPE=image/png:https://anci.fvg.it/wp-content/uploads/2024/02/Screenshot-2024-02-02-103126.png
END:VEVENT
END:VCALENDAR