BEGIN:VCALENDAR
VERSION:2.0
PRODID:-//Anci FVG - ECPv6.15.12.2//NONSGML v1.0//EN
CALSCALE:GREGORIAN
METHOD:PUBLISH
X-ORIGINAL-URL:https://anci.fvg.it
X-WR-CALDESC:Eventi per Anci FVG
REFRESH-INTERVAL;VALUE=DURATION:PT1H
X-Robots-Tag:noindex
X-PUBLISHED-TTL:PT1H
BEGIN:VTIMEZONE
TZID:Europe/Rome
BEGIN:DAYLIGHT
TZOFFSETFROM:+0100
TZOFFSETTO:+0200
TZNAME:CEST
DTSTART:20240331T010000
END:DAYLIGHT
BEGIN:STANDARD
TZOFFSETFROM:+0200
TZOFFSETTO:+0100
TZNAME:CET
DTSTART:20241027T010000
END:STANDARD
BEGIN:DAYLIGHT
TZOFFSETFROM:+0100
TZOFFSETTO:+0200
TZNAME:CEST
DTSTART:20250330T010000
END:DAYLIGHT
BEGIN:STANDARD
TZOFFSETFROM:+0200
TZOFFSETTO:+0100
TZNAME:CET
DTSTART:20251026T010000
END:STANDARD
BEGIN:DAYLIGHT
TZOFFSETFROM:+0100
TZOFFSETTO:+0200
TZNAME:CEST
DTSTART:20260329T010000
END:DAYLIGHT
BEGIN:STANDARD
TZOFFSETFROM:+0200
TZOFFSETTO:+0100
TZNAME:CET
DTSTART:20261025T010000
END:STANDARD
END:VTIMEZONE
BEGIN:VEVENT
DTSTART;TZID=Europe/Rome:20251124T090000
DTEND;TZID=Europe/Rome:20251124T130000
DTSTAMP:20260421T162834
CREATED:20251120T070826Z
LAST-MODIFIED:20251120T093251Z
UID:59051-1763974800-1763989200@anci.fvg.it
SUMMARY:Alta formazione sulle politiche UE | Connettere il futuro: le politiche europee per costruire la competitività e la crescita territoriale
DESCRIPTION:Il seminario rientra nel ciclo “I Cantieri di Gianni Bravo”\, dieci appuntamenti dedicati alle politiche europee per i territori\, promossi da Regione Friuli Venezia Giulia e organizzati da Informest con European College of Parma e il supporto di ANCI FVG\, ComPA FVG\, Aiccre Friuli Venezia Giulia e il patrocinio del Consiglio regionale FVG\n\nIl prossimo 24 novembre a Pordenone il decimo seminario del percorso “Verso un futuro sostenibile”. \nCome potranno le politiche europee post-2027 rafforzare la competitività e la resilienza dei territori? In che modo infrastrutture verdi e digitali potranno diventare leve per la crescita sostenibile e la coesione delle comunità locali? \nA questi temi sarà dedicato il decimo modulo del ciclo di alta formazione “Verso un futuro sostenibile”\, in programma lunedì 24 novembre 2025\, dalle 9:00 alle 13:00\, presso la Sala Missinato del Municipio di Pordenone (Corso Vittorio Emanuele II\, 64). \nIl seminario\, dal titolo “Connettere il futuro: le politiche europee per costruire la competitività e la crescita territoriale”\, esplorerà il ruolo delle strategie infrastrutturali europee nel rafforzare gli ecosistemi locali\, verdi e digitali.\nAttraverso le prospettive delle politiche UE post-2027\, l’incontro metterà al centro coesione\, innovazione e resilienza territoriale\, offrendo uno spazio di confronto su modelli di sviluppo integrati e sostenibili. \nL’appuntamento sarà un’occasione di dialogo tra amministratori\, tecnici e portatori di interesse pubblici e privati\, per condividere esperienze e individuare strategie in grado di connettere comunità e natura\, valorizzando le infrastrutture come strumenti di competitività regionale. \nLa partecipazione è gratuita e aperta ad amministratori locali\, funzionari pubblici\, dirigenti regionali e rappresentanti degli interessi del territorio.\nAi dipendenti della Regione Autonoma Friuli Venezia Giulia sarà riconosciuto il credito formativo\, previa partecipazione e superamento del questionario di valutazione finale. \nIl materiale didattico sarà inviato via e-mail ai partecipanti iscritti. \nAl termine del seminario verrà rilasciato un attestato di partecipazione. \n \nISCRIZIONI\ncompilando il modulo disponibile al seguente link\nModulo di iscrizione Modulo 10 – 24 novembre 2025 \nPROGRAMMA DEI LAVORI\n24 novembre
URL:https://anci.fvg.it/evento/alta-formazione-sulle-politiche-ue-connettere-il-futuro-le-politiche-europee-per-costruire-la-competitivita-e-la-crescita-territoriale/
LOCATION:Comune di Pordenone\, Corso Vittorio Emanuele II\, 64\, Pordenone\, Italy
CATEGORIES:Altri organizzatori: eventi esterni di interesse degli Enti locali
ATTACH;FMTTYPE=image/png:https://anci.fvg.it/wp-content/uploads/2025/11/24-novembre.png
END:VEVENT
BEGIN:VEVENT
DTSTART;TZID=Europe/Rome:20251027T090000
DTEND;TZID=Europe/Rome:20251027T130000
DTSTAMP:20260421T162834
CREATED:20251028T093024Z
LAST-MODIFIED:20251028T094459Z
UID:58353-1761555600-1761570000@anci.fvg.it
SUMMARY:Alta formazione sulle politiche UE | Tecnologie\, Territori\, Talenti: la nuova politica industriale per il rilancio della manifattura europea nel post 2027
DESCRIPTION:Il seminario rientra nel ciclo “I Cantieri di Gianni Bravo”\, dieci appuntamenti dedicati alle politiche europee per i territori\, promossi da Regione Friuli Venezia Giulia e organizzati da Informest con European College of Parma e il supporto di ANCI FVG\, ComPA FVG\, Aiccre Friuli Venezia Giulia e il patrocinio del Consiglio regionale FVG\n\nIn un contesto globale attraversato da profonde trasformazioni ecologiche\, digitali e geopolitiche\, l’Unione Europea si trova oggi di fronte a una sfida cruciale: ridefinire il ruolo e la direzione della propria politica industriale. \nÈ a partire da questa consapevolezza che nasce il seminario “Tecnologie\, Territori\, Talenti: la nuova politica industriale per il rilancio della manifattura europea nel post 2027”\, promosso da Informest nell’ambito del programma di alta formazione “Verso un futuro sostenibile”. \nL’incontro\, in programma lunedì 27 ottobre 2025 dalle ore 9:00 alle 13:00 presso Palazzo Antonini-Stringher\, Fondazione Friuli – Udine\, rappresenta il nono appuntamento di un percorso di riflessione dedicato al futuro delle politiche pubbliche europee e al ruolo dei territori nella costruzione di uno sviluppo più equilibrato e inclusivo. \nIl seminario si propone di esplorare le direttrici strategiche della politica di sviluppo europeo post-2027\, mettendo al centro il tema della manifattura europea come motore di innovazione\, sostenibilità e competitività. \nTra i temi che saranno affrontati: \n\nInnovazione tecnologica e autonomia strategica europea\nRafforzamento delle PMI e del tessuto produttivo locale\nSostenibilità ambientale e transizione verde\nDigitalizzazione e uso delle tecnologie emergenti\nResilienza e inclusione dei territori\n\nIl dibattito offrirà uno spazio di confronto tra istituzioni\, esperti\, amministratori locali e rappresentanti del mondo produttivo\, con l’obiettivo di delineare nuovi scenari per una politica industriale europea più autonoma\, competitiva e sostenibile. \nIl seminario rientra nel ciclo “I Cantieri di Gianni Bravo”\, dieci appuntamenti dedicati alle politiche europee per i territori\, promossi da Informest\, con il supporto di ANCI FVG\, AICCRE FVG\, ComPA FVG\, e in collaborazione con la Fondazione Collegio Europeo di Parma. \nLa partecipazione è gratuita e aperta ad amministratori locali\, funzionari pubblici e rappresentanti degli interessi del territorio e cittadini. \nAi dipendenti della Regione Autonoma Friuli Venezia Giulia sarà riconosciuto il credito formativo\, previa partecipazione e superamento del questionario finale di valutazione. \nAl termine del seminario verrà rilasciato un attestato di partecipazione. \n																										 \nISCRIZIONI\ncompilando il modulo disponibile al seguente link\nModulo di iscrizione Modulo 9 – 27 ottobre 2025 \nPROGRAMMA DEI LAVORI\nModulo-9-Informest-1
URL:https://anci.fvg.it/evento/alta-formazione-sulle-politiche-ue-tecnologie-territori-talenti-la-nuova-politica-industriale-per-il-rilancio-della-manifattura-europea-nel-post-2027/
LOCATION:Fondazione Friuli\, Via Gemona 1\, Udine
CATEGORIES:Altri organizzatori: eventi esterni di interesse degli Enti locali
ATTACH;FMTTYPE=image/jpeg:https://anci.fvg.it/wp-content/uploads/2025/10/Modulo-9-Informest-2-pdf.jpg
END:VEVENT
BEGIN:VEVENT
DTSTART;TZID=Europe/Rome:20250922T090000
DTEND;TZID=Europe/Rome:20250922T130000
DTSTAMP:20260421T162834
CREATED:20250902T041400Z
LAST-MODIFIED:20250912T065313Z
UID:57228-1758531600-1758546000@anci.fvg.it
SUMMARY:Alta formazione sulle politiche UE | Governare il futuro: l’impatto del Quadro Finanziario sull’Europa delle Regioni
DESCRIPTION:Il seminario rientra nel ciclo “I Cantieri di Gianni Bravo”\, dieci appuntamenti dedicati alle politiche europee per i territori\, promossi da Regione Friuli Venezia Giulia e organizzati da Informest con European College of Parma e il supporto di ANCI FVG\, ComPA FVG\, Aiccre Friuli Venezia Giulia e il patrocinio del Consiglio regionale FVG\n\nQuale sarà il volto dell’Europa dopo il 2027? In un contesto segnato da transizioni complesse – demografica\, digitale\, climatica e geopolitica – le politiche di coesione sono chiamate a rinnovarsi per affrontare le sfide del futuro. \nA questi temi sarà dedicato l’ottavo modulo del ciclo di alta formazione “Verso un futuro sostenibile”\, in programma lunedì 22 settembre 2025\, dalle 9:00 alle 13:00\, presso Palazzo Antonini-Stringher – Fondazione Friuli\, in Via Gemona 1\, Udine. \nIl seminario\, dal titolo “Governare il futuro: l’impatto del Quadro Finanziario sull’Europa delle Regioni”\, offrirà uno spazio di confronto sulle prospettive della politica di coesione europea nel prossimo periodo di programmazione\, con un focus sugli strumenti innovativi e sul ruolo strategico delle regioni per costruire un’Europa più equa\, resiliente e competitiva. \nL’incontro sarà un’occasione per dialogare tra amministratori\, tecnici\, stakeholders pubblici e privati\, per individuare scenari emergenti e condividere visioni utili a rafforzare le capacità dei territori di affrontare i cambiamenti in atto. \nLa partecipazione è gratuita e aperta ad amministratori locali\, funzionari pubblici e rappresentanti degli interessi del territorio e cittadini. \nAi dipendenti della Regione Autonoma Friuli Venezia Giulia sarà riconosciuto il credito formativo\, previa partecipazione e superamento del questionario finale di valutazione. \nAl termine del seminario verrà rilasciato un attestato di partecipazione. \n																										 \nISCRIZIONI\ncompilando il modulo disponibile al seguente link https://tinyurl.com/y66hv3u3\nPROGRAMMA DEI LAVORI\nModulo-8-Agenda
URL:https://anci.fvg.it/evento/alta-formazione-sulle-politiche-ue-governare-il-futuro-limpatto-del-quadro-finanziario-sulleuropa-delle-regioni/
LOCATION:Fondazione Friuli\, Via Gemona 1\, Udine
CATEGORIES:Altri organizzatori: eventi esterni di interesse degli Enti locali
ATTACH;FMTTYPE=image/png:https://anci.fvg.it/wp-content/uploads/2025/09/22settembre.png
END:VEVENT
BEGIN:VEVENT
DTSTART;TZID=Europe/Rome:20250721T090000
DTEND;TZID=Europe/Rome:20250721T130000
DTSTAMP:20260421T162834
CREATED:20250702T054944Z
LAST-MODIFIED:20250709T092434Z
UID:56485-1753088400-1753102800@anci.fvg.it
SUMMARY:Alta formazione sulle politiche UE | Radici nel futuro: prospettive e sfide per l’agricoltura dopo il 2027
DESCRIPTION:Il seminario rientra nel ciclo “I Cantieri di Gianni Bravo”\, dieci appuntamenti dedicati alle politiche europee per i territori\, promossi da Informest\, con il supporto di ANCI FVG\, Aiccre FVG\, ComPA FVG\, e in collaborazione con la Fondazione Collegio Europeo di Parma.\n\nIl prossimo 21 luglio a Udine il settimo seminario del percorso “Verso un futuro sostenibile” Il futuro dell’agricoltura europea si gioca oggi\, tra la necessità di garantire la sicurezza alimentare\, rispondere alla crisi climatica e promuovere modelli produttivi sostenibili. \nA questi temi sarà dedicato il settimo modulo del ciclo di alta formazione “Verso un futuro sostenibile”\, in programma il 21 luglio 2025\, dalle 9:00 alle 13:00\, presso Palazzo Antonini-Stringher – Fondazione Friuli\, in Via Gemona 1\, Udine. \nIl seminario\, dal titolo “Radici nel futuro: prospettive e sfide per l’agricoltura dopo il 2027”\, si concentrerà sulle politiche agricole dell’Unione Europea nel prossimo ciclo di programmazione\, approfondendo strumenti\, priorità e visioni in grado di accompagnare il settore nella transizione ecologica\, digitale e generazionale. \nSarà un’occasione di dialogo e confronto tra istituzioni\, tecnici\, operatori del settore e cittadini\, con l’obiettivo di immaginare un’agricoltura che\, pur mantenendo radici solide nel passato\, sia in grado di affrontare un futuro complesso e in evoluzione. \nAi dipendenti regionali sarà riconosciuto il credito formativo previa partecipazione e superamento di un test di valutazione. \n																										 \nISCRIZIONI\nLa partecipazione è gratuita previa iscrizione compilando il modulo disponibile all’indirizzo: https://shorturl.at/eTysd\nPROGRAMMA DEI LAVORI\nModulo-7-Programma
URL:https://anci.fvg.it/evento/alta-formazione-sulle-politiche-ue-radici-nel-futuro-prospettive-e-sfide-per-lagricoltura-dopo-il-2027/
LOCATION:Fondazione Friuli\, Via Gemona 1\, Udine
CATEGORIES:Altri organizzatori: eventi esterni di interesse degli Enti locali,Appuntamenti ANCI FVG
ATTACH;FMTTYPE=image/png:https://anci.fvg.it/wp-content/uploads/2025/07/21luglio.png
END:VEVENT
BEGIN:VEVENT
DTSTART;TZID=Europe/Rome:20250623T090000
DTEND;TZID=Europe/Rome:20250623T130000
DTSTAMP:20260421T162834
CREATED:20250605T073915Z
LAST-MODIFIED:20250612T074756Z
UID:56049-1750669200-1750683600@anci.fvg.it
SUMMARY:Alta formazione sulle politiche UE | Oltre il 2027: strategie e visioni per una nuova Europa della cultura
DESCRIPTION:L’iniziativa è parte del programma “I Cantieri di Gianni Bravo”\, un ciclo formativo che prevede un totale di 10 seminari dedicati a tematiche chiave per il futuro del territorio\, come sostenibilità\, politiche urbane e rurali\, sicurezza alimentare\, formazione\, salute e infrastrutture. L’obiettivo è di rafforzare la partecipazione della Regione Friuli Venezia Giulia alle decisioni europee e migliorare l’accesso ai fondi UE.\n\nIl 23 giugno 2025\, presso l’Unione Ginnastica Goriziana (UGG) di Gorizia\, si terrà il sesto seminario del percorso di alta formazione Verso un futuro sostenibile\, promosso dalla Regione Autonoma Friuli Venezia Giulia e organizzato da Informest\, con il supporto di ANCI FVG\, COMPA\, AICCRE e in collaborazione con la Fondazione Collegio Europeo di Parma. \nIl seminario intitolato “Oltre il 2027: Strategie e visioni per una nuova Europa della cultura” invita a guardare oltre l’orizzonte dell’attuale programmazione europea per immaginare il futuro delle politiche culturali. La cultura rappresenta un motore fondamentale di coesione sociale\, identità condivisa e innovazione all’interno dell’Unione Europea. Il seminario intende promuovere la cultura come leva strategica per uno sviluppo sostenibile e partecipato\, capace di generare cittadinanza attiva e resilienza nei territori.L’incontro vuole offrire un’occasione concreta di confronto e dialogo tra istituzioni\, amministratori locali\, operatori culturali e cittadini. Un momento per riflettere insieme su temi urgenti e attuali\, come la digitalizzazione e l’accesso alla cultura\, la sostenibilità dei modelli culturali\, l’inclusione sociale e la valorizzazione del patrimonio. \nAttraverso un approccio aperto e multidisciplinare\, il seminario intende fornire spunti\, strumenti e visioni per ripensare l’ecosistema culturale europeo\, con particolare attenzione alle nuove opportunità che si apriranno nel periodo post 2027. \nAi dipendenti regionali sarà riconosciuto il credito formativo. \nISCRIZIONI > La partecipazione è gratuita previa iscrizione compilando il modulo disponibile all’indirizzo: https://shorturl.at/DvKLq\nProgramma completo dell’evento Modulo 6 programma completo
URL:https://anci.fvg.it/evento/alta-formazione-sulle-politiche-ue-oltre-il-2027-strategie-e-visioni-per-una-nuova-europa-della-cultura/
LOCATION:Unione Ginnastica Goriziana\, Via Giovanni Rismondo 2\, Gorizia
CATEGORIES:Altri organizzatori: eventi esterni di interesse degli Enti locali,Appuntamenti ANCI FVG
ATTACH;FMTTYPE=image/png:https://anci.fvg.it/wp-content/uploads/2025/06/informest.png
END:VEVENT
BEGIN:VEVENT
DTSTART;TZID=Europe/Rome:20250526T090000
DTEND;TZID=Europe/Rome:20250526T130000
DTSTAMP:20260421T162834
CREATED:20250509T093614Z
LAST-MODIFIED:20250515T060223Z
UID:55639-1748250000-1748264400@anci.fvg.it
SUMMARY:Alta formazione sulle politiche UE: “Costruire il futuro” tra formazione\, lavoro e coesione sociale
DESCRIPTION:L’iniziativa è parte del programma “I Cantieri di Gianni Bravo”\, un ciclo formativo che prevede un totale di 10 seminari dedicati a tematiche chiave per il futuro del territorio\, come sostenibilità\, politiche urbane e rurali\, sicurezza alimentare\, formazione\, salute e infrastrutture. L’obiettivo è di rafforzare la partecipazione della Regione Friuli Venezia Giulia alle decisioni europee e migliorare l’accesso ai fondi UE.\n\nCome costruire un futuro equo\, sostenibile e inclusivo in un’epoca di profonde trasformazioni? È attorno a questa domanda che ruota il seminario “Costruire il futuro: progettiamo il domani attraverso politiche sociali integrate”\, promosso dalla Regione Friuli Venezia Giulia e organizzato da Informest\, con il supporto di ANCI FVG\, COMPA\, AICCRE e in collaborazione con la Fondazione Collegio Europeo di Parma. \nIl quinto appuntamento del ciclo di Seminari di Alta Formazione è fissato per lunedì 26 maggio alle ore 9:00 presso l’Urban Center di Trieste\, e rappresenta una preziosa occasione di confronto aperta a funzionari pubblici\, amministratori locali\, operatori del terzo settore\, stakeholder e cittadini interessati ai temi della formazione\, dell’occupazione e delle politiche sociali. \nIn un contesto segnato dalla doppia transizione – digitale e ambientale – dai mutamenti del mercato del lavoro e dai cambiamenti demografici\, diventa sempre più urgente elaborare politiche integrate in grado di accompagnare le persone lungo l’intero arco della vita. Il seminario intende offrire strumenti di analisi e riflessione sulle politiche europee e nazionali per l’istruzione\, la formazione e l’accesso al lavoro nel periodo post 2027.Particolare attenzione sarà dedicata a giovani\, donne e territori di transizione\, con l’obiettivo di elaborare proposte operative e strategie efficaci per affrontare il cambiamento in modo sostenibile e coeso. \nAi dipendenti regionali sarà riconosciuto il credito formativo. \nISCRIZIONI > La partecipazione è gratuita previa iscrizione compilando il Modulo di iscrizione al seminario \nPROGRAMMA > Programma-Modulo-5-26-maggio-2025
URL:https://anci.fvg.it/evento/alta-formazione-sulle-politiche-ue-costruire-il-futuro-tra-formazione-lavoro-e-coesione-sociale/
LOCATION:Urban Center\, Corso Cavour 2\, Trieste\, Italy
CATEGORIES:Altri organizzatori: eventi esterni di interesse degli Enti locali,Appuntamenti ANCI FVG
ATTACH;FMTTYPE=image/jpeg:https://anci.fvg.it/wp-content/uploads/2025/04/20250416_085721.jpg
END:VEVENT
BEGIN:VEVENT
DTSTART;TZID=Europe/Rome:20250428T090000
DTEND;TZID=Europe/Rome:20250428T130000
DTSTAMP:20260421T162834
CREATED:20250416T071332Z
LAST-MODIFIED:20250416T072412Z
UID:55210-1745830800-1745845200@anci.fvg.it
SUMMARY:Alta formazione sulle politiche UE: seminario sulle le strategie di sviluppo urbano sostenibile
DESCRIPTION:Continua il percorso di alta formazione dedicato alle politiche dell’Unione Europea promosso dalla Regione Friuli Venezia Giulia e organizzato da Informest\, con il supporto di ANCI FVG\, COMPA\, AICCRE e in collaborazione con la Fondazione Collegio Europeo di Parma\, sotto il patrocinio del Consiglio Regionale. \nIl quarto seminario\, in agenda il 28 aprile\, previsto all’interno del programma di formazione dal titolo “Sviluppo regionale e urbano dell’Unione europea: le strategie di sviluppo urbano sostenibile”\, si concentrerà sul ruolo dello sviluppo regionale e urbano nell’Unione europea\, con particolare attenzione alla riduzione delle disuguaglianze territoriali\, promuovendo crescita economica\, inclusività e sostenibilità. Infatti\, le strategie di sviluppo urbano sostenibile puntano alla protezione ambientale\, alla mobilità verde\, alla gestione efficiente delle risorse e alla promozione di energie rinnovabili. \nL’obiettivo dell’incontro è fornire ai partecipanti strumenti utili per aumentare la consapevolezza sull’Agenda Urbana europea\, esplorare i percorsi verso città più sostenibili e resilienti. \n\nL’iniziativa è parte del programma “I Cantieri di Gianni Bravo”\, un ciclo formativo che prevede un totale di 10 seminari dedicati a tematiche chiave per il futuro del territorio\, come sostenibilità\, politiche urbane e rurali\, sicurezza alimentare\, formazione\, salute e infrastrutture. L’obiettivo è di rafforzare la partecipazione della Regione Friuli Venezia Giulia alle decisioni europee e migliorare l’accesso ai fondi UE. \n\nAi dipendenti regionali saranno riconosciuti i crediti formativi previo superamento di un test finale. \n  \nISCRIZIONI > La partecipazione è gratuita previa iscrizione compilando il seguente modulo \nModulo di iscrizione al seminario Sviluppo regionale e urbano dell’Unione europea\nPROGRAMMA > Programma-Modulo-4-Sviluppo-regionale-e-urbano
URL:https://anci.fvg.it/evento/alta-formazione-sulle-politiche-ue-seminario-sulle-le-strategie-di-sviluppo-urbano-sostenibile/
LOCATION:Urban Center\, Corso Cavour 2\, Trieste\, Italy
CATEGORIES:Altri organizzatori: eventi esterni di interesse degli Enti locali,Appuntamenti ANCI FVG
ATTACH;FMTTYPE=image/jpeg:https://anci.fvg.it/wp-content/uploads/2025/04/20250416_085721.jpg
END:VEVENT
BEGIN:VEVENT
DTSTART;TZID=Europe/Rome:20250224T090000
DTEND;TZID=Europe/Rome:20250224T123000
DTSTAMP:20260421T162834
CREATED:20250210T085938Z
LAST-MODIFIED:20250212T095826Z
UID:53386-1740387600-1740400200@anci.fvg.it
SUMMARY:Alta formazione sulle politiche UE: seminario sulla governance economica
DESCRIPTION:Prosegue il ciclo di alta formazione sulle politiche dell’Unione Europea promosso dalla Regione Friuli Venezia Giulia organizzato da Informest\, con il supporto di ANCI FVG\, COMPA\, AICCRE e in collaborazione con la Fondazione Collegio Europeo di Parma\, sotto il patrocinio del Consiglio Regionale. Il secondo incontro\, alla presenza dell’Assessore Regionale alle Finanze Barbara Zilli\, intitolato “La Governance economica dell’UE e le riforme”\, si terrà il 24 febbraio 2025 alle ore 9:00 a Udine\, presso la Sala Convegni – Fondazione Friuli\, Palazzo Antonini-Stringher in Via Gemona\, 1. L’evento approfondirà le dinamiche della governance economica dell’Unione Europea e le implicazioni delle recenti riforme volte a promuovere la sostenibilità del debito\, fornendo strumenti utili per affrontare le sfide macroeconomiche e favorire una crescita inclusiva. L’iniziativa è parte del programma “I Cantieri di Gianni Bravo”\, il ciclo formativo prevede un totale di 10 seminari mensili dedicati a tematiche chiave per il futuro del territorio\, come sostenibilità\, politiche urbane e rurali\, sicurezza alimentare\, formazione\, salute e infrastrutture. L’iniziativa mira a rafforzare la partecipazione della regione Friuli Venezia Giulia alle decisioni europee e migliorare l’accesso ai fondi UE. Ai dipendenti regionali saranno riconosciuti i crediti formativi previo superamento di un test finale.  \nISCRIZIONI ⇒ La partecipazione è gratuita previa iscrizione compilando il modulo disponibile all’indirizzo \nhttps://forms.office.com/e/7Psuk8e11T\nPROGRAMMA ⇒ Programma Modulo 2_La governance economica dell UE_24 febbraio 2025
URL:https://anci.fvg.it/evento/seminario-sulla-governance-economica/
CATEGORIES:Altri organizzatori: eventi esterni di interesse degli Enti locali,Appuntamenti ANCI FVG
ATTACH;FMTTYPE=image/png:https://anci.fvg.it/wp-content/uploads/2025/02/24febbraio.png
END:VEVENT
BEGIN:VEVENT
DTSTART;TZID=Europe/Rome:20250121T090000
DTEND;TZID=Europe/Rome:20250121T123000
DTSTAMP:20260421T162834
CREATED:20241231T141128Z
LAST-MODIFIED:20250110T085849Z
UID:52457-1737450000-1737462600@anci.fvg.it
SUMMARY:Politiche Europee e Territorio: convegno di Alta Formazione
DESCRIPTION:Il 21 gennaio 2025 inizierà un ciclo di alta formazione sulle politiche dell’Unione Europea\, con particolare attenzione agli impatti locali e alla programmazione post 2027. L’obiettivo è approfondire le politiche dell’Unione Europea per migliorare la partecipazione regionale alle decisioni europee e l’accesso ai fondi UE. \nRivolta a Amministratori locali\, funzionari e dirigenti che operano nella regione Friuli Venezia Giulia l’iniziativa prevede 10 seminari a cadenza mensile dedicati a temi come sostenibilità\, politiche urbane e rurali\, sicurezza alimentare\, formazione\, salute e infrastrutture. \nIl primo incontro\, “L’agenda strategica dell’Ue: anticipiamo il futuro. Il Foresight strategico”\, si terrà a Udine\, presso la Sala Convegni- Fondazione Friuli Palazzo Antonini- Stringher in Via Gemona\,1 e approfondirà l’uso del foresight per anticipare i cambiamenti e sviluppare strategie locali innovative. \nPromosso dalla Regione Friuli Venezia Giulia tramite Informest\, con il supporto di ANCI FVG\, COMPA\, AICCRE e la Fondazione Collegio Europeo di Parma\, il progetto gode del patrocinio del Consiglio Regionale. \nLa partecipazione è libera previa iscrizione\nSi prevedono crediti formativi per i partecipanti. \nLOCANDINA ⇒ Programma seminario_Foresight strategico\nISCRIZIONI ⇒ Compilando il modulo all’indirizzo https://shorturl.at/UW4SZ
URL:https://anci.fvg.it/evento/politiche-europee-e-territorio-convegno-di-alta-formazione/
CATEGORIES:Altri organizzatori: eventi esterni di interesse degli Enti locali,Appuntamenti ANCI FVG
ATTACH;FMTTYPE=image/png:https://anci.fvg.it/wp-content/uploads/2024/12/colleggio_ultimo-1.png
END:VEVENT
END:VCALENDAR