BEGIN:VCALENDAR
VERSION:2.0
PRODID:-//Anci FVG - ECPv6.15.12.2//NONSGML v1.0//EN
CALSCALE:GREGORIAN
METHOD:PUBLISH
X-WR-CALNAME:Anci FVG
X-ORIGINAL-URL:https://anci.fvg.it
X-WR-CALDESC:Eventi per Anci FVG
REFRESH-INTERVAL;VALUE=DURATION:PT1H
X-Robots-Tag:noindex
X-PUBLISHED-TTL:PT1H
BEGIN:VTIMEZONE
TZID:Europe/Rome
BEGIN:DAYLIGHT
TZOFFSETFROM:+0100
TZOFFSETTO:+0200
TZNAME:CEST
DTSTART:20230326T010000
END:DAYLIGHT
BEGIN:STANDARD
TZOFFSETFROM:+0200
TZOFFSETTO:+0100
TZNAME:CET
DTSTART:20231029T010000
END:STANDARD
BEGIN:DAYLIGHT
TZOFFSETFROM:+0100
TZOFFSETTO:+0200
TZNAME:CEST
DTSTART:20240331T010000
END:DAYLIGHT
BEGIN:STANDARD
TZOFFSETFROM:+0200
TZOFFSETTO:+0100
TZNAME:CET
DTSTART:20241027T010000
END:STANDARD
BEGIN:DAYLIGHT
TZOFFSETFROM:+0100
TZOFFSETTO:+0200
TZNAME:CEST
DTSTART:20250330T010000
END:DAYLIGHT
BEGIN:STANDARD
TZOFFSETFROM:+0200
TZOFFSETTO:+0100
TZNAME:CET
DTSTART:20251026T010000
END:STANDARD
END:VTIMEZONE
BEGIN:VEVENT
DTSTART;TZID=Europe/Rome:20240123T143000
DTEND;TZID=Europe/Rome:20240123T160000
DTSTAMP:20260422T153833
CREATED:20240123T092315Z
LAST-MODIFIED:20240123T092315Z
UID:45721-1706020200-1706025600@anci.fvg.it
SUMMARY:Realizzare i progetti della PA con il project management
DESCRIPTION:L’evento formativo vuole introdurre i dipendenti del comparto pubblico unico Regione ed Enti Locali del FVG e amministratori locali alla metodologia del PM con la finalità di:\n• Diffondere consapevolezza sulle potenzialità del Project Management;\n• Esplicitare quali benefici può apportare la metodologia e quindi il livello di innovazione ed efficienza conseguibile dai Comuni;\n• Favorire un linguaggio comune all’interno dell’Ente\, per una comunicazione interna più chiara non solo tra responsabili e collaboratori ma anche tra componente tecnica e politica dell’organizzazione. \nL’iscrizione al percorso è gratuita in virtù del Piano formativo strategico regionale nextPA. \nINFORMAZIONI E ISCRIZIONI SU Corso 124N004 – ComPA FVG
URL:https://anci.fvg.it/evento/realizzare-i-progetti-della-pa-con-il-project-management/
CATEGORIES:Formazione amministratori locali
ATTACH;FMTTYPE=image/png:https://anci.fvg.it/wp-content/uploads/2023/01/Progetto-senza-titolo.png
END:VEVENT
END:VCALENDAR