BEGIN:VCALENDAR
VERSION:2.0
PRODID:-//Anci FVG - ECPv6.15.12.2//NONSGML v1.0//EN
CALSCALE:GREGORIAN
METHOD:PUBLISH
X-WR-CALNAME:Anci FVG
X-ORIGINAL-URL:https://anci.fvg.it
X-WR-CALDESC:Eventi per Anci FVG
REFRESH-INTERVAL;VALUE=DURATION:PT1H
X-Robots-Tag:noindex
X-PUBLISHED-TTL:PT1H
BEGIN:VTIMEZONE
TZID:Europe/Rome
BEGIN:DAYLIGHT
TZOFFSETFROM:+0100
TZOFFSETTO:+0200
TZNAME:CEST
DTSTART:20240331T010000
END:DAYLIGHT
BEGIN:STANDARD
TZOFFSETFROM:+0200
TZOFFSETTO:+0100
TZNAME:CET
DTSTART:20241027T010000
END:STANDARD
BEGIN:DAYLIGHT
TZOFFSETFROM:+0100
TZOFFSETTO:+0200
TZNAME:CEST
DTSTART:20250330T010000
END:DAYLIGHT
BEGIN:STANDARD
TZOFFSETFROM:+0200
TZOFFSETTO:+0100
TZNAME:CET
DTSTART:20251026T010000
END:STANDARD
BEGIN:DAYLIGHT
TZOFFSETFROM:+0100
TZOFFSETTO:+0200
TZNAME:CEST
DTSTART:20260329T010000
END:DAYLIGHT
BEGIN:STANDARD
TZOFFSETFROM:+0200
TZOFFSETTO:+0100
TZNAME:CET
DTSTART:20261025T010000
END:STANDARD
END:VTIMEZONE
BEGIN:VEVENT
DTSTART;TZID=Europe/Rome:20251124T113000
DTEND;TZID=Europe/Rome:20251124T133000
DTSTAMP:20260423T022103
CREATED:20251117T110614Z
LAST-MODIFIED:20251117T115634Z
UID:58786-1763983800-1763991000@anci.fvg.it
SUMMARY:Contributi economici alle organizzazioni di volontariato di protezione civile ai sensi del Decreto n. 1472/2023
DESCRIPTION:Una risposta chiara e condivisa per garantire serenità operativa 				\n				\n				\n				\n									Il Presidente di ANCI FVG\, Dorino Favot\, è intervenuto all’incontro promosso dalla Comunità montana della Carnia dedicato alle possibili ricadute sull’organizzazione della Protezione civile regionale dopo i fatti di Preone. Nel corso del confronto\, Favot ha evidenziato l’importanza di un lavoro congiunto tra tutti i livelli istituzionali per individuare una risposta chiara e condivisa\, capace di garantire serenità operativa a Sindaci\, Amministratori e volontari impegnati nella gestione delle emergenze. Il Presidente di ANCI FVG ha sottolineato come l’attuale fase richieda un approfondimento tecnico e normativo\, ma soprattutto un’assunzione di responsabilità comune per salvaguardare un modello organizzativo che negli anni ha rappresentato un punto di riferimento a livello regionale e nazionale. L’auspicio espresso è che istituzioni regionali\, autonomie locali e strutture operative collaborino per individuare rapidamente soluzioni che mettano in sicurezza il patrimonio umano e valoriale rappresentato dai sindaci e dai volontari della Protezione civile\, garantendo al contempo continuità ed efficacia al sistema. 								\n				\n					\n		\n					\n		\n				\n						\n					\n			\n						\n						\n					\n			\n						\n				\n							\n			\n						\n		\n						\n				\n					\n		\n				\n			\n						\n				\n									LEGGI ANCHE Emergenze e responsabilità\, ANCI FVG: «Non si può agire senza tutele»Sospensione delle attività di Protezione Civile fino a nuove normeFavot: Norme chiare per tutelare volontari e SindaciPreone: la solidarietà di ANCI FVG e del Presidente FavotMorte volontario Protezione Civile\, rinvio a giudizio per omicidio colposo per il sindaco di Preone								\n				\n					\n		\n					\n		\n					\n		\n					\n		\n				\n						\n					\n			\n						\n				\n									 SOCIAL MEDIA								\n				\n				\n				\n							\n							\n					\n						Facebook\n											\n				\n							\n					\n						Twitter\n											\n				\n							\n					\n						Instagram
URL:https://anci.fvg.it/evento/contributi-economici-alle-organizzazioni-di-volontariato-di-protezione-civile-ai-sensi-del-decreto-n-1472-2023/
LOCATION:online
CATEGORIES:Eventi nazionali
ATTACH;FMTTYPE=image/jpeg:https://anci.fvg.it/wp-content/uploads/2025/11/protezione-civile.jpg
END:VEVENT
END:VCALENDAR