BEGIN:VCALENDAR
VERSION:2.0
PRODID:-//Anci FVG - ECPv6.15.12.2//NONSGML v1.0//EN
CALSCALE:GREGORIAN
METHOD:PUBLISH
X-WR-CALNAME:Anci FVG
X-ORIGINAL-URL:https://anci.fvg.it
X-WR-CALDESC:Eventi per Anci FVG
REFRESH-INTERVAL;VALUE=DURATION:PT1H
X-Robots-Tag:noindex
X-PUBLISHED-TTL:PT1H
BEGIN:VTIMEZONE
TZID:Europe/Rome
BEGIN:DAYLIGHT
TZOFFSETFROM:+0100
TZOFFSETTO:+0200
TZNAME:CEST
DTSTART:20220327T010000
END:DAYLIGHT
BEGIN:STANDARD
TZOFFSETFROM:+0200
TZOFFSETTO:+0100
TZNAME:CET
DTSTART:20221030T010000
END:STANDARD
BEGIN:DAYLIGHT
TZOFFSETFROM:+0100
TZOFFSETTO:+0200
TZNAME:CEST
DTSTART:20230326T010000
END:DAYLIGHT
BEGIN:STANDARD
TZOFFSETFROM:+0200
TZOFFSETTO:+0100
TZNAME:CET
DTSTART:20231029T010000
END:STANDARD
BEGIN:DAYLIGHT
TZOFFSETFROM:+0100
TZOFFSETTO:+0200
TZNAME:CEST
DTSTART:20240331T010000
END:DAYLIGHT
BEGIN:STANDARD
TZOFFSETFROM:+0200
TZOFFSETTO:+0100
TZNAME:CET
DTSTART:20241027T010000
END:STANDARD
END:VTIMEZONE
BEGIN:VEVENT
DTSTART;TZID=Europe/Rome:20230109T143000
DTEND;TZID=Europe/Rome:20230109T163000
DTSTAMP:20260423T075814
CREATED:20230102T095657Z
LAST-MODIFIED:20230102T100217Z
UID:37928-1673274600-1673281800@anci.fvg.it
SUMMARY:Fondo per fronteggiare l’aumento dei costi dei materiali anno 2023 e punto della situazione 2022
DESCRIPTION:Nel corso dell’incontro del 9 gennaio\, organizzato da ANCI nazionale MEF\, saranno illustrate le modalità per l’accesso al Fondo per fronteggiare l’aumento dei costi materiali anno 2023\, in particolare\, dopo un inquadramento generale della norma inserita nella legge di bilancio per l’anno 2023\, verranno illustrate nel dettaglio: \n● Procedura semplificata: scadenze\, modalità e obblighi;\n● Procedura ordinaria: scadenze\, modalità e obblighi. \nLa seconda parte dell’incontro sarà dedicata a fornire un punto della situazione sul Fondo per l’avvio delle opere indifferibili nell’anno 2022\, con particolare riferimento alle verifiche ex post e all’assegnazione definitiva delle risorse. \nDa ultimo\, verranno fornite indicazioni su FAQ di interesse degli enti locali e sulla manualistica disponibile. \nISCRIZIONI \nPROGRAMMA
URL:https://anci.fvg.it/evento/webinar-fondo-per-fronteggiare-aumento-costi-materiali-anno-2023-e-punto-situazione-2022/
LOCATION:on line
CATEGORIES:Eventi nazionali
ATTACH;FMTTYPE=image/jpeg:https://anci.fvg.it/wp-content/uploads/2023/01/aumentoprezzi.jpg
END:VEVENT
END:VCALENDAR