BEGIN:VCALENDAR
VERSION:2.0
PRODID:-//Anci FVG - ECPv6.15.12.2//NONSGML v1.0//EN
CALSCALE:GREGORIAN
METHOD:PUBLISH
X-ORIGINAL-URL:https://anci.fvg.it
X-WR-CALDESC:Eventi per Anci FVG
REFRESH-INTERVAL;VALUE=DURATION:PT1H
X-Robots-Tag:noindex
X-PUBLISHED-TTL:PT1H
BEGIN:VTIMEZONE
TZID:Europe/Rome
BEGIN:DAYLIGHT
TZOFFSETFROM:+0100
TZOFFSETTO:+0200
TZNAME:CEST
DTSTART:20240331T010000
END:DAYLIGHT
BEGIN:STANDARD
TZOFFSETFROM:+0200
TZOFFSETTO:+0100
TZNAME:CET
DTSTART:20241027T010000
END:STANDARD
BEGIN:DAYLIGHT
TZOFFSETFROM:+0100
TZOFFSETTO:+0200
TZNAME:CEST
DTSTART:20250330T010000
END:DAYLIGHT
BEGIN:STANDARD
TZOFFSETFROM:+0200
TZOFFSETTO:+0100
TZNAME:CET
DTSTART:20251026T010000
END:STANDARD
BEGIN:DAYLIGHT
TZOFFSETFROM:+0100
TZOFFSETTO:+0200
TZNAME:CEST
DTSTART:20260329T010000
END:DAYLIGHT
BEGIN:STANDARD
TZOFFSETFROM:+0200
TZOFFSETTO:+0100
TZNAME:CET
DTSTART:20261025T010000
END:STANDARD
END:VTIMEZONE
BEGIN:VEVENT
DTSTART;TZID=Europe/Rome:20250507T103000
DTEND;TZID=Europe/Rome:20250507T123000
DTSTAMP:20260420T204516
CREATED:20250416T080359Z
LAST-MODIFIED:20250417T072624Z
UID:55229-1746613800-1746621000@anci.fvg.it
SUMMARY:Il decreto Salva casa (d.l. 69/2024): nuova modulistica unificata e indirizzi operativi
DESCRIPTION:Si terrà mercoledì 7 maggio alle ore 10:30 il webinar Anci “Il decreto Salva casa (d.l. 69/2024): nuova modulistica unificata e indirizzi operativi”. \nIl 23 maggio diventerà obbligatorio da parte di Comuni e Città metropolitane l’utilizzo della modulistica unificata e standardizzata per l’attuazione del decreto-legge cd Salva casa (69/2024).  \nAl fine di illustrare le maggiori novità sulle principali tematiche oggetto dell’intervento normativo\, anche alla luce della pubblicazione del Quaderno operativo ANCI n. 56\, “Il decreto “salva casa” (dl n.69/2024) nuova modulistica unificata e indirizzi operativi”\, il webinar ha la finalità di offrire un supporto operativo immediato a tutti i funzionari\, gli esperti e gli operatori del settore\, fornendo un approfondimento sulle macroaree di interventi edilizi interessati dalla nuova disciplina. \nPROGRAMMA\nISCRIZIONI
URL:https://anci.fvg.it/evento/il-decreto-salva-casa-d-l-69-2024-nuova-modulistica-unificata-e-indirizzi-operativi/
LOCATION:on line
CATEGORIES:Eventi nazionali,Webinar
ATTACH;FMTTYPE=image/jpeg:https://anci.fvg.it/wp-content/uploads/2025/04/webinar-decreto-salva-casa.jpg
END:VEVENT
END:VCALENDAR