BEGIN:VCALENDAR
VERSION:2.0
PRODID:-//Anci FVG - ECPv6.15.12.2//NONSGML v1.0//EN
CALSCALE:GREGORIAN
METHOD:PUBLISH
X-ORIGINAL-URL:https://anci.fvg.it
X-WR-CALDESC:Eventi per Anci FVG
REFRESH-INTERVAL;VALUE=DURATION:PT1H
X-Robots-Tag:noindex
X-PUBLISHED-TTL:PT1H
BEGIN:VTIMEZONE
TZID:Europe/Rome
BEGIN:DAYLIGHT
TZOFFSETFROM:+0100
TZOFFSETTO:+0200
TZNAME:CEST
DTSTART:20220327T010000
END:DAYLIGHT
BEGIN:STANDARD
TZOFFSETFROM:+0200
TZOFFSETTO:+0100
TZNAME:CET
DTSTART:20221030T010000
END:STANDARD
BEGIN:DAYLIGHT
TZOFFSETFROM:+0100
TZOFFSETTO:+0200
TZNAME:CEST
DTSTART:20230326T010000
END:DAYLIGHT
BEGIN:STANDARD
TZOFFSETFROM:+0200
TZOFFSETTO:+0100
TZNAME:CET
DTSTART:20231029T010000
END:STANDARD
BEGIN:DAYLIGHT
TZOFFSETFROM:+0100
TZOFFSETTO:+0200
TZNAME:CEST
DTSTART:20240331T010000
END:DAYLIGHT
BEGIN:STANDARD
TZOFFSETFROM:+0200
TZOFFSETTO:+0100
TZNAME:CET
DTSTART:20241027T010000
END:STANDARD
END:VTIMEZONE
BEGIN:VEVENT
DTSTART;TZID=Europe/Rome:20230329T103000
DTEND;TZID=Europe/Rome:20230329T120000
DTSTAMP:20260423T173221
CREATED:20230322T161231Z
LAST-MODIFIED:20230322T161918Z
UID:40958-1680085800-1680091200@anci.fvg.it
SUMMARY:PAS - Il SIUSS e l’importanza dei dati per le politiche sociali: suggerimenti operativi per la trasmissione dei dati sulle prestazioni sociali
DESCRIPTION:Il Dipartimento Welfare della sede nazionale porta all’attenzione l’esperienza della “Fondazione Banca delle Visite”\, di cui quest’anno cade il decennale\, nata con l’obiettivo di supportare le persone in difficoltà nell’accesso a prestazioni mediche e diagnostiche urgenti\, attraverso l’attivazione di un ‘circuito solidale’ di prossimità. Gli ambiti di intervento della Fondazione\, come illustrato nella brochure informativa allegata\, comprendono anche iniziative di Prevenzione\, il sostegno alle attività sportive per bambini e ragazzi che vivono in situazioni disagio socio-familiare e controlli veterinari degli animali da compagnia per persone in difficoltà.133 Comuni hanno già aderito al circuito inserendo l’iniziativa all’interno delle proprie politiche sociali per il proprio territorio. 								\n				\n					\n		\n					\n		\n				\n						\n					\n			\n						\n						\n					\n			\n						\n				\n							\n			\n						\n		\n						\n				\n					\n		\n				\n			\n						\n				\n									I Comuni interessati ad aderire al circuito solidale possono rivolgersi direttamente alla Fondazione ai seguenti contatti: adesioni@bancadellevisite.it cell. +39 351 1015 726 – 347 6366566 								\n				\n					\n		\n					\n		\n				\n						\n					\n			\n						\n				\n							\n			\n						\n		\n						\n				\n					\n		\n				\n			\n						\n				\n									MATERIALI UTILILettera di presentazioneSchede informative
URL:https://anci.fvg.it/evento/siuss/
LOCATION:on line
CATEGORIES:Eventi nazionali
ATTACH;FMTTYPE=image/jpeg:https://anci.fvg.it/wp-content/uploads/2023/03/computer-gb8b85b27a_1920.jpg
END:VEVENT
END:VCALENDAR