BEGIN:VCALENDAR
VERSION:2.0
PRODID:-//Anci FVG - ECPv6.15.12.2//NONSGML v1.0//EN
CALSCALE:GREGORIAN
METHOD:PUBLISH
X-WR-CALNAME:Anci FVG
X-ORIGINAL-URL:https://anci.fvg.it
X-WR-CALDESC:Eventi per Anci FVG
REFRESH-INTERVAL;VALUE=DURATION:PT1H
X-Robots-Tag:noindex
X-PUBLISHED-TTL:PT1H
BEGIN:VTIMEZONE
TZID:Europe/Rome
BEGIN:DAYLIGHT
TZOFFSETFROM:+0100
TZOFFSETTO:+0200
TZNAME:CEST
DTSTART:20230326T010000
END:DAYLIGHT
BEGIN:STANDARD
TZOFFSETFROM:+0200
TZOFFSETTO:+0100
TZNAME:CET
DTSTART:20231029T010000
END:STANDARD
BEGIN:DAYLIGHT
TZOFFSETFROM:+0100
TZOFFSETTO:+0200
TZNAME:CEST
DTSTART:20240331T010000
END:DAYLIGHT
BEGIN:STANDARD
TZOFFSETFROM:+0200
TZOFFSETTO:+0100
TZNAME:CET
DTSTART:20241027T010000
END:STANDARD
BEGIN:DAYLIGHT
TZOFFSETFROM:+0100
TZOFFSETTO:+0200
TZNAME:CEST
DTSTART:20250330T010000
END:DAYLIGHT
BEGIN:STANDARD
TZOFFSETFROM:+0200
TZOFFSETTO:+0100
TZNAME:CET
DTSTART:20251026T010000
END:STANDARD
END:VTIMEZONE
BEGIN:VEVENT
DTSTART;TZID=Europe/Rome:20240316T090000
DTEND;TZID=Europe/Rome:20240316T163000
DTSTAMP:20260420T200138
CREATED:20240221T074242Z
LAST-MODIFIED:20240307T093139Z
UID:46096-1710579600-1710606600@anci.fvg.it
SUMMARY:Approccio strategico allo sviluppo locale
DESCRIPTION:Interventi per rendere gli edifici pubblici più efficienti sotto l’aspetto energetico\, anticipazione delle spese di progettazione\, sostegno per il completamento di interventi finanziati dal Pnrr e poi ancora rifinanziamento per la conversione di prestiti.  Sono numerosi gli strumenti e i servizi finanziari che Cassa Depositi e Prestiti mette a disposizione degli Enti locali anche della nostra Regione e per illustrarli ha organizzato a Udine un incontro assieme alla Fondazione Friuli\, che come le altre fondazioni di origine bancaria ne è socia. A palazzo Antonini-Stringher\, davanti a un pubblico di Amministratori locali e responsabili tecnici\, sono così intervenuti il Presidente della Fondazione Friuli\, Bruno Malattia\, il Responsabile delle Relazioni Business PA per il Nord Est di CDP\, Paolo Palmieri\, e rappresentanti del GSE\, il Gestore dei servizi energetici.  L’appuntamento al quale ha preso parte anche il Presidente di ANCI FVG Dorino Favot\, rientra in un ciclo di incontri che Cassa Depositi e Prestiti è impegnata a portare avanti in tutta Italia per contribuire alla realizzazione di progetti d’interesse collettivo e ad alto valore aggiunto a beneficio delle comunità locali.  Guardando a tutta la Regione Friuli Venezia Giulia\, nell’ultimo triennio\, dal 2022 al 2024\, CDP ha servito oltre 100 soggetti\, supportandoli con un totale di circa 90 milioni di euro di risorse. Inoltre\, con il Piano Strategico 2025-2027\, CDP sta ampliando ancora il suo ruolo di partner solido e attento alle esigenze degli enti pubblici grazie anche al potenziamento della rete territoriale.  “Il ruolo delle fondazioni bancarie è sostenere la crescita dei territori – ha detto nel suo saluto introduttivo il Presidente Bruno Malattia – e lo facciamo anche al fianco di partner importanti del sistema istituzionale come CDP. Abbiamo voluto quindi offrire un momento di confronto per gli Enti locali del nostro territorio su strumenti concreti e aggiornati a sostegno degli investimenti pubblici\, in un periodo in cui la capacità di programmare e realizzare interventi di qualità\, in tempi certi e con risorse adeguate\, rappresenta una sfida e al tempo stesso una grande opportunità”.  Paolo Palmieri\, Responsabile delle Relazioni Business PA per il Nordest di CDP ha commentato: “Ringraziamo la Fondazione Friuli e gli altri protagonisti di questo incontro a conferma della solida relazione instaurata e delle sinergie che proprio attraverso il dialogo continuo consentono di realizzare le migliori condizioni per la crescita del territorio sia a livello economici sia sul piano sociale. Come CDP accompagniamo le istituzioni locali nel loro lavoro quotidiano con il fine ultimo di alzare il livello della qualità della vita della popolazione”.  Il Presidente di ANCI FVG Dorino Favot ha ringraziato Fondazione Friuli e CDP per aver organizzato l’incontro di mercoledì 25 giugno a Udine affermando che gli strumenti e i servizi offerti consentono ai Comuni della nostra Regione di crescere e svilupparsi realizzando in tempi certi interventi di valore sui loro territori. 								\n				\n					\n		\n					\n		\n				\n						\n					\n			\n						\n				\n							\n			\n						\n		\n						\n				\n				\n				\n					\n		\n			\n				\n					\n						\n							\n						\n\n													\n																	\n																			\n																\n												\n				\n\n				\n				\n					\n						\n							\n						\n\n													\n																	\n																			\n																\n												\n				\n\n				\n				\n					\n						\n							\n						\n\n													\n																	\n																			\n																\n												\n				\n\n				\n				\n					\n						\n							\n						\n\n													\n																	\n																			\n																\n												\n				\n\n				\n				\n					\n						\n							\n						\n\n													\n																	\n																			\n																\n												\n				\n\n						\n\n						\n				\n				\n						\n					\n			\n						\n				\n									SEGUICI SUI NOSTRI CANALI SOCIAL								\n				\n					\n		\n				\n			\n						\n				\n							\n							\n					\n						Instagram\n											\n				\n							\n					\n						Facebook\n											\n				\n							\n					\n						X-twitter
URL:https://anci.fvg.it/evento/approccio-strategico-allo-sviluppo-locale/
LOCATION:Salone d’Onore\, Piazza Grande\, Palmanova
CATEGORIES:Appuntamenti ANCI FVG,Formazione amministratori locali,Seminari tematici e visite studio
ATTACH;FMTTYPE=image/jpeg:https://anci.fvg.it/wp-content/uploads/2024/02/Promo-sviluppo-locale-1.jpg
END:VEVENT
END:VCALENDAR