BEGIN:VCALENDAR
VERSION:2.0
PRODID:-//Anci FVG - ECPv6.15.12.2//NONSGML v1.0//EN
CALSCALE:GREGORIAN
METHOD:PUBLISH
X-WR-CALNAME:Anci FVG
X-ORIGINAL-URL:https://anci.fvg.it
X-WR-CALDESC:Eventi per Anci FVG
REFRESH-INTERVAL;VALUE=DURATION:PT1H
X-Robots-Tag:noindex
X-PUBLISHED-TTL:PT1H
BEGIN:VTIMEZONE
TZID:Europe/Rome
BEGIN:DAYLIGHT
TZOFFSETFROM:+0100
TZOFFSETTO:+0200
TZNAME:CEST
DTSTART:20230326T010000
END:DAYLIGHT
BEGIN:STANDARD
TZOFFSETFROM:+0200
TZOFFSETTO:+0100
TZNAME:CET
DTSTART:20231029T010000
END:STANDARD
BEGIN:DAYLIGHT
TZOFFSETFROM:+0100
TZOFFSETTO:+0200
TZNAME:CEST
DTSTART:20240331T010000
END:DAYLIGHT
BEGIN:STANDARD
TZOFFSETFROM:+0200
TZOFFSETTO:+0100
TZNAME:CET
DTSTART:20241027T010000
END:STANDARD
BEGIN:DAYLIGHT
TZOFFSETFROM:+0100
TZOFFSETTO:+0200
TZNAME:CEST
DTSTART:20250330T010000
END:DAYLIGHT
BEGIN:STANDARD
TZOFFSETFROM:+0200
TZOFFSETTO:+0100
TZNAME:CET
DTSTART:20251026T010000
END:STANDARD
END:VTIMEZONE
BEGIN:VEVENT
DTSTART;TZID=Europe/Rome:20241121T083000
DTEND;TZID=Europe/Rome:20241121T160000
DTSTAMP:20260420T213610
CREATED:20241105T084341Z
LAST-MODIFIED:20241105T084744Z
UID:51240-1732177800-1732204800@anci.fvg.it
SUMMARY:Convention Internazionale “Infrastrutture Verdi\, Alberi Monumentali\, Parchi e Giardini: nuovi approcci gestionali”
DESCRIPTION:La Regione Autonoma Friuli Venezia Giulia\, attraverso la Direzione centrale infrastrutture e territorio\, organizza una Convention Internazionale dedicata all’arboricoltura ornamentale declinata nelle infrastrutture verdi\, nella gestione degli alberi monumentali\, dei parchi e dei giardini che si terrà tra Udine\, Trieste e Pordenone nelle giornate tra il 21 e il 23 di novembre. \nL’evento ha la pretesa\, in questo momento di forti cambiamenti climatici\, di far “parlare” gli alberi con il territorio urbano e urbanizzato\, identificando nuove modalità di pianificazione e gestione e evidenziando le implicazioni – sia positive che negative – tra costruito e naturale. \nScopo principale è quindi trovare modalità di conservazione innovative\, anche attraverso l’utilizzo di strumenti e tecnologie che possono aiutare lo studio delle varie situazioni\, delle interferenze e dei passaggi storici\, evidenziando anche gli interventi di sostegno economico e di opportunità messi in atto dalla Regione in questo campo. \nIl convegno vuol essere anche un momento di scambio tra le diverse modalità di tutela paesaggistica e di conservazione dei beni\, in particolare dei parchi storici e degli alberi monumentali. \n⇒ Programma e iscrizioni alla pagina web: Regione Autonoma Friuli Venezia Giulia – Eventi\nSi sottolinea inoltre la possibilità di effettuare degli interventi programmati da parte dei tecnici del settore pubblico o privato e dei professionisti degli ordini nei pomeriggi delle giornate del 22 e 23 novembre per i quali è necessario prenotarsi inviando una mail al seguente indirizzo: andrea.maroe@regione.fvg.it
URL:https://anci.fvg.it/evento/convention-internazionale-infrastrutture-verdi-alberi-monumentali-parchi-e-giardini-nuovi-approcci-gestionali/
LOCATION:Auditorium Antonio Comelli\, Via Cecilia Gradenigo Sabbadini\, 31\, Udine\, Italy
CATEGORIES:Altri organizzatori: eventi esterni di interesse degli Enti locali
ATTACH;FMTTYPE=image/png:https://anci.fvg.it/wp-content/uploads/2024/11/alberi.png
END:VEVENT
BEGIN:VEVENT
DTSTART;TZID=Europe/Rome:20241122T083000
DTEND;TZID=Europe/Rome:20241122T160000
DTSTAMP:20260420T213610
CREATED:20241105T084816Z
LAST-MODIFIED:20241105T085024Z
UID:51245-1732264200-1732291200@anci.fvg.it
SUMMARY:Convention Internazionale “Infrastrutture Verdi\, Alberi Monumentali\, Parchi e Giardini: nuovi approcci gestionali”
DESCRIPTION:La Regione Autonoma Friuli Venezia Giulia\, attraverso la Direzione centrale infrastrutture e territorio\, organizza una Convention Internazionale dedicata all’arboricoltura ornamentale declinata nelle infrastrutture verdi\, nella gestione degli alberi monumentali\, dei parchi e dei giardini che si terrà tra Udine\, Trieste e Pordenone nelle giornate tra il 21 e il 23 di novembre. \nL’evento ha la pretesa\, in questo momento di forti cambiamenti climatici\, di far “parlare” gli alberi con il territorio urbano e urbanizzato\, identificando nuove modalità di pianificazione e gestione e evidenziando le implicazioni – sia positive che negative – tra costruito e naturale. \nScopo principale è quindi trovare modalità di conservazione innovative\, anche attraverso l’utilizzo di strumenti e tecnologie che possono aiutare lo studio delle varie situazioni\, delle interferenze e dei passaggi storici\, evidenziando anche gli interventi di sostegno economico e di opportunità messi in atto dalla Regione in questo campo. \nIl convegno vuol essere anche un momento di scambio tra le diverse modalità di tutela paesaggistica e di conservazione dei beni\, in particolare dei parchi storici e degli alberi monumentali. \n⇒ Programma e iscrizioni alla pagina web: Regione Autonoma Friuli Venezia Giulia – Eventi\nSi sottolinea inoltre la possibilità di effettuare degli interventi programmati da parte dei tecnici del settore pubblico o privato e dei professionisti degli ordini nei pomeriggi delle giornate del 22 e 23 novembre per i quali è necessario prenotarsi inviando una mail al seguente indirizzo: andrea.maroe@regione.fvg.it
URL:https://anci.fvg.it/evento/convention-internazionale-infrastrutture-verdi-alberi-monumentali-parchi-e-giardini-nuovi-approcci-gestionali-22/
LOCATION:Auditorium Regione di Pordenone\, Piazza Ospedale Vecchio\, Pordenone\, 33170
CATEGORIES:Altri organizzatori: eventi esterni di interesse degli Enti locali
ATTACH;FMTTYPE=image/png:https://anci.fvg.it/wp-content/uploads/2024/11/alberi.png
END:VEVENT
BEGIN:VEVENT
DTSTART;TZID=Europe/Rome:20241123T083000
DTEND;TZID=Europe/Rome:20241123T160000
DTSTAMP:20260420T213610
CREATED:20241105T085234Z
LAST-MODIFIED:20241105T085405Z
UID:51249-1732350600-1732377600@anci.fvg.it
SUMMARY:Convention Internazionale “Infrastrutture Verdi\, Alberi Monumentali\, Parchi e Giardini: nuovi approcci gestionali”
DESCRIPTION:La Regione Autonoma Friuli Venezia Giulia\, attraverso la Direzione centrale infrastrutture e territorio\, organizza una Convention Internazionale dedicata all’arboricoltura ornamentale declinata nelle infrastrutture verdi\, nella gestione degli alberi monumentali\, dei parchi e dei giardini che si terrà tra Udine\, Trieste e Pordenone nelle giornate tra il 21 e il 23 di novembre. \nL’evento ha la pretesa\, in questo momento di forti cambiamenti climatici\, di far “parlare” gli alberi con il territorio urbano e urbanizzato\, identificando nuove modalità di pianificazione e gestione e evidenziando le implicazioni – sia positive che negative – tra costruito e naturale. \nScopo principale è quindi trovare modalità di conservazione innovative\, anche attraverso l’utilizzo di strumenti e tecnologie che possono aiutare lo studio delle varie situazioni\, delle interferenze e dei passaggi storici\, evidenziando anche gli interventi di sostegno economico e di opportunità messi in atto dalla Regione in questo campo. \nIl convegno vuol essere anche un momento di scambio tra le diverse modalità di tutela paesaggistica e di conservazione dei beni\, in particolare dei parchi storici e degli alberi monumentali. \n⇒ Programma e iscrizioni alla pagina web: Regione Autonoma Friuli Venezia Giulia – Eventi\nSi sottolinea inoltre la possibilità di effettuare degli interventi programmati da parte dei tecnici del settore pubblico o privato e dei professionisti degli ordini nei pomeriggi delle giornate del 22 e 23 novembre per i quali è necessario prenotarsi inviando una mail al seguente indirizzo: andrea.maroe@regione.fvg.it
URL:https://anci.fvg.it/evento/convention-internazionale-infrastrutture-verdi-alberi-monumentali-parchi-e-giardini-nuovi-approcci-gestionali-23/
LOCATION:Auditorium Ferdinandeo – MIB\, Largo Caduti Nassirya 1\, Trieste\, 34100
CATEGORIES:Altri organizzatori: eventi esterni di interesse degli Enti locali
ATTACH;FMTTYPE=image/png:https://anci.fvg.it/wp-content/uploads/2024/11/alberi.png
END:VEVENT
END:VCALENDAR