BEGIN:VCALENDAR
VERSION:2.0
PRODID:-//Anci FVG - ECPv6.15.12.2//NONSGML v1.0//EN
CALSCALE:GREGORIAN
METHOD:PUBLISH
X-WR-CALNAME:Anci FVG
X-ORIGINAL-URL:https://anci.fvg.it
X-WR-CALDESC:Eventi per Anci FVG
REFRESH-INTERVAL;VALUE=DURATION:PT1H
X-Robots-Tag:noindex
X-PUBLISHED-TTL:PT1H
BEGIN:VTIMEZONE
TZID:Europe/Rome
BEGIN:DAYLIGHT
TZOFFSETFROM:+0100
TZOFFSETTO:+0200
TZNAME:CEST
DTSTART:20240331T010000
END:DAYLIGHT
BEGIN:STANDARD
TZOFFSETFROM:+0200
TZOFFSETTO:+0100
TZNAME:CET
DTSTART:20241027T010000
END:STANDARD
BEGIN:DAYLIGHT
TZOFFSETFROM:+0100
TZOFFSETTO:+0200
TZNAME:CEST
DTSTART:20250330T010000
END:DAYLIGHT
BEGIN:STANDARD
TZOFFSETFROM:+0200
TZOFFSETTO:+0100
TZNAME:CET
DTSTART:20251026T010000
END:STANDARD
BEGIN:DAYLIGHT
TZOFFSETFROM:+0100
TZOFFSETTO:+0200
TZNAME:CEST
DTSTART:20260329T010000
END:DAYLIGHT
BEGIN:STANDARD
TZOFFSETFROM:+0200
TZOFFSETTO:+0100
TZNAME:CET
DTSTART:20261025T010000
END:STANDARD
END:VTIMEZONE
BEGIN:VEVENT
DTSTART;TZID=Europe/Rome:20250414T110000
DTEND;TZID=Europe/Rome:20250414T130000
DTSTAMP:20260422T191337
CREATED:20250408T053612Z
LAST-MODIFIED:20250408T054137Z
UID:54894-1744628400-1744635600@anci.fvg.it
SUMMARY:Reddito di libertà per le donne vittime di violenza: la Circolare INPS 54/2024 e il regime transitorio per le domande
DESCRIPTION:Si dà notizia della pubblicazione della Deliberazione n. 10/2026 della Sez. delle Autonomie della Corte dei Conti\, in risposta a un quesito posto dall’ANCI relativo all’esclusione dal calcolo della soglia di capacità assunzionale delle spese per l’assunzione di personale con professionalità sociale presso gli ambiti territoriali sociali finanziate con le risorse del fondo per le non autosufficienze; si tratta della quota riservata di 50 milioni di euro del Fondo per la non autosufficienza\, specificamente destinata alle assunzioni a tempo indeterminato di personale con professionalità sociale presso gli Ambiti territoriali sociali (ATS) per l’implementazione dei Punti Unici di Accesso (PUA). La Corte ha confermato l’interpretazione sostenuta dall’ANCI\, stabilendo che «Le risorse del fondo per le non autosufficienze destinate\, ai sensi del DPCM 3 ottobre 2022\, alle assunzioni di personale con professionalità sociale presso gli Ambiti Territoriali Sociali (ATS) per l’implementazione dei Punti Unici di Accesso (PUA) devono essere considerate risorse provenienti da altri soggetti\, espressamente finalizzate a nuove assunzioni\, ai sensi dell’art. 57\, comma 3-septies\, 7 del d.l. n. 104/2020. Conseguentemente\, le relative spese di personale possono essere escluse dal calcolo dei valori soglia previsti dall’art. 33 del d.l. n. 34 del 2019 nei limiti e per la durata del finanziamento effettivamente garantito\, a condizione che l’ente dimostri la tracciabilità delle risorse vincolate e la loro integrale destinazione alla specifica assunzione». La Deliberazione è consultabile al seguente link: https://www.corteconti.it/HOME/Documenti/DettaglioDocumenti?Id=6bec0b27-a301-4f8a-9355-ee3d112f27b6    								\n				\n					\n		\n					\n		\n				\n						\n					\n			\n						\n						\n					\n			\n						\n				\n									 SOCIAL MEDIA								\n				\n				\n				\n							\n							\n					\n						Facebook\n											\n				\n							\n					\n						Twitter\n											\n				\n							\n					\n						Instagram
URL:https://anci.fvg.it/evento/reddito-di-liberta-per-le-donne-vittime-di-violenza-la-circolare-inps-54-2024-e-il-regime-transitorio-per-le-domande/
LOCATION:on line
CATEGORIES:Eventi nazionali,Webinar
ATTACH;FMTTYPE=image/jpeg:https://anci.fvg.it/wp-content/uploads/2025/04/Reddito-di-liberta_Webinar_14-aprile-2025_coverweb.jpg
END:VEVENT
BEGIN:VEVENT
DTSTART;TZID=Europe/Rome:20250415T110000
DTEND;TZID=Europe/Rome:20250415T130000
DTSTAMP:20260422T191337
CREATED:20250411T090807Z
LAST-MODIFIED:20250411T091433Z
UID:55097-1744714800-1744722000@anci.fvg.it
SUMMARY:Assegno di inclusione\, le linee guida per la definizione dei patti per l’inclusione sociale
DESCRIPTION:Si dà notizia della pubblicazione della Deliberazione n. 10/2026 della Sez. delle Autonomie della Corte dei Conti\, in risposta a un quesito posto dall’ANCI relativo all’esclusione dal calcolo della soglia di capacità assunzionale delle spese per l’assunzione di personale con professionalità sociale presso gli ambiti territoriali sociali finanziate con le risorse del fondo per le non autosufficienze; si tratta della quota riservata di 50 milioni di euro del Fondo per la non autosufficienza\, specificamente destinata alle assunzioni a tempo indeterminato di personale con professionalità sociale presso gli Ambiti territoriali sociali (ATS) per l’implementazione dei Punti Unici di Accesso (PUA). La Corte ha confermato l’interpretazione sostenuta dall’ANCI\, stabilendo che «Le risorse del fondo per le non autosufficienze destinate\, ai sensi del DPCM 3 ottobre 2022\, alle assunzioni di personale con professionalità sociale presso gli Ambiti Territoriali Sociali (ATS) per l’implementazione dei Punti Unici di Accesso (PUA) devono essere considerate risorse provenienti da altri soggetti\, espressamente finalizzate a nuove assunzioni\, ai sensi dell’art. 57\, comma 3-septies\, 7 del d.l. n. 104/2020. Conseguentemente\, le relative spese di personale possono essere escluse dal calcolo dei valori soglia previsti dall’art. 33 del d.l. n. 34 del 2019 nei limiti e per la durata del finanziamento effettivamente garantito\, a condizione che l’ente dimostri la tracciabilità delle risorse vincolate e la loro integrale destinazione alla specifica assunzione». La Deliberazione è consultabile al seguente link: https://www.corteconti.it/HOME/Documenti/DettaglioDocumenti?Id=6bec0b27-a301-4f8a-9355-ee3d112f27b6    								\n				\n					\n		\n					\n		\n				\n						\n					\n			\n						\n						\n					\n			\n						\n				\n									 SOCIAL MEDIA								\n				\n				\n				\n							\n							\n					\n						Facebook\n											\n				\n							\n					\n						Twitter\n											\n				\n							\n					\n						Instagram
URL:https://anci.fvg.it/evento/assegno-di-inclusione-le-linee-guida-per-la-definizione-dei-patti-per-linclusione-sociale/
LOCATION:on line
CATEGORIES:Eventi nazionali,Webinar
ATTACH;FMTTYPE=image/jpeg:https://anci.fvg.it/wp-content/uploads/2025/04/Webinar-programma-Save-15-aprile-2025_coverweb.jpg
END:VEVENT
END:VCALENDAR